BEGIN:VCALENDAR
VERSION:2.0
PRODID:-//Sabre//Sabre VObject 4.5.8//EN
CALSCALE:GREGORIAN
BEGIN:VEVENT
UID:sabre-vobject-5e8fdae0-add2-43a1-a82b-8435716de2e5
DTSTAMP:20260422T070045Z
SUMMARY:Vorabendmesse zum Palmsonntag mit Weihe der Palmbuschen
DESCRIPTION:https://pfarreien-bistum-augsburg.df-preview.de/vorabendmesse-z
 um-palmsonntag-mit-weihe-der-palmbuschen_id1697483
DTSTART;TZID=Europe/Berlin:20260328T191500
DURATION:PT30M
LOCATION:St. Johannes Baptist\, Schulstraße 9\, 87745 Eppishausen
END:VEVENT
END:VCALENDAR
