BEGIN:VCALENDAR
VERSION:2.0
PRODID:-//Sabre//Sabre VObject 4.5.8//EN
CALSCALE:GREGORIAN
BEGIN:VEVENT
UID:sabre-vobject-3bb14684-92d3-4bd8-a6e0-b64cc8f2f339
DTSTAMP:20260422T111255Z
SUMMARY:Beichtgelegenheit
DESCRIPTION:https://pfarreien-bistum-augsburg.df-preview.de/beichtgelegenhe
 it_id1697482
DTSTART;TZID=Europe/Berlin:20260328T184500
DURATION:PT30M
LOCATION:St. Johannes Baptist\, Schulstraße 9\, 87745 Eppishausen
END:VEVENT
END:VCALENDAR
