BEGIN:VCALENDAR
VERSION:2.0
PRODID:-//Sabre//Sabre VObject 4.5.8//EN
CALSCALE:GREGORIAN
BEGIN:VEVENT
UID:sabre-vobject-3f1ea27a-474f-4519-a453-516afd35da59
DTSTAMP:20260420T195126Z
SUMMARY:Kinderkreuzweg
DESCRIPTION:https://pfarreien-bistum-augsburg.df-preview.de/kinderkreuzweg_
 id1697476
DTSTART;TZID=Europe/Berlin:20260403T103000
DURATION:PT30M
LOCATION:St. Vitus
END:VEVENT
END:VCALENDAR
