BEGIN:VCALENDAR
VERSION:2.0
PRODID:-//Sabre//Sabre VObject 4.5.8//EN
CALSCALE:GREGORIAN
BEGIN:VEVENT
UID:sabre-vobject-03871114-0ba8-438a-bd97-3bd8f2aa3912
DTSTAMP:20260421T003357Z
SUMMARY:KREUZWEGANDACHT
DESCRIPTION:https://pfarreien-bistum-augsburg.df-preview.de/kreuzwegandacht
 _id1697475
DTSTART;TZID=Europe/Berlin:20260403T093000
DURATION:PT30M
LOCATION:St. Vitus
END:VEVENT
END:VCALENDAR
