BEGIN:VCALENDAR
VERSION:2.0
PRODID:-//Sabre//Sabre VObject 4.5.8//EN
CALSCALE:GREGORIAN
BEGIN:VEVENT
UID:sabre-vobject-313fe780-52cb-4c02-ba3e-261e9d72673f
DTSTAMP:20260422T210300Z
SUMMARY:Feldkapelle: Andacht
DESCRIPTION:https://pfarreien-bistum-augsburg.df-preview.de/feldkapelle-and
 acht_id1697462
DTSTART;TZID=Europe/Berlin:20260410T180000
DURATION:PT30M
LOCATION:St. Michael
END:VEVENT
END:VCALENDAR
