BEGIN:VCALENDAR
VERSION:2.0
PRODID:-//Sabre//Sabre VObject 4.5.8//EN
CALSCALE:GREGORIAN
BEGIN:VEVENT
UID:sabre-vobject-ce8938b8-241d-4e57-9304-024ab8baf8cd
DTSTAMP:20260425T181716Z
SUMMARY:Karfreitagsgebet der Kinder - bitte Blumen und Moos mitbringen.
DESCRIPTION:https://pfarreien-bistum-augsburg.df-preview.de/karfreitagsgebe
 t-der-kinder-bitte-blumen-und-moos-mitbringen_id1697461
DTSTART;TZID=Europe/Berlin:20260403T133000
DURATION:PT30M
LOCATION:St. Nikolaus
END:VEVENT
END:VCALENDAR
