BEGIN:VCALENDAR
VERSION:2.0
PRODID:-//Sabre//Sabre VObject 4.5.8//EN
CALSCALE:GREGORIAN
BEGIN:VEVENT
UID:sabre-vobject-c175d6f1-9e5c-49ef-8c57-1a8675cbd167
DTSTAMP:20260425T222231Z
SUMMARY:KREUZWEGANDACHT
DESCRIPTION:https://pfarreien-bistum-augsburg.df-preview.de/kreuzwegandacht
 _id1697448
DTSTART;TZID=Europe/Berlin:20260403T100000
DURATION:PT30M
LOCATION:St. Nikolaus
END:VEVENT
END:VCALENDAR
