BEGIN:VCALENDAR
VERSION:2.0
PRODID:-//Sabre//Sabre VObject 4.5.8//EN
CALSCALE:GREGORIAN
BEGIN:VEVENT
UID:sabre-vobject-dc31dcc8-0cda-440a-9339-f797e19709ff
DTSTAMP:20260424T213620Z
SUMMARY:Pfarrgottesdienst mit Palmprozession\n- Kollekte für das Hl. Land\
 n
DESCRIPTION:https://pfarreien-bistum-augsburg.df-preview.de/pfarrgottesdien
 st-mit-palmprozession-kollekte-fuer-das-hl-land_id1697306
DTSTART;TZID=Europe/Berlin:20260329T090000
DURATION:PT30M
LOCATION:St. Georg
END:VEVENT
END:VCALENDAR
