BEGIN:VCALENDAR
VERSION:2.0
PRODID:-//Sabre//Sabre VObject 4.5.8//EN
CALSCALE:GREGORIAN
BEGIN:VEVENT
UID:sabre-vobject-f9d38cbc-fd07-4d7f-9afc-ca8580193ddb
DTSTAMP:20260420T195127Z
SUMMARY:Msza po polsku
DESCRIPTION:https://pfarreien-bistum-augsburg.df-preview.de/msza-po-polsku_
 id1697273
DTSTART;TZID=Europe/Berlin:20260419T150000
DURATION:PT30M
LOCATION:St. Stephan
END:VEVENT
END:VCALENDAR
