BEGIN:VCALENDAR
VERSION:2.0
PRODID:-//Sabre//Sabre VObject 4.5.8//EN
CALSCALE:GREGORIAN
BEGIN:VEVENT
UID:sabre-vobject-c03114c4-4dd7-494b-b1c4-22cd851b326c
DTSTAMP:20260423T003827Z
SUMMARY:Palmweihe beim Leichenhaus - kl. Prozession zur Kirche \nHl. Messe 
 für die Pfarrgemeinde \n(anschl. sind Palmbuschen der Ministranten erhäl
 tlich)
DESCRIPTION:https://pfarreien-bistum-augsburg.df-preview.de/palmweihe-beim-
 leichenhaus-kl-prozession-zur-kirche-hl-messe-fuer-die-pfarrgemeinde-ansch
 l-sind-palmbuschen-der-ministranten-erhaeltlich_id1697247
DTSTART;TZID=Europe/Berlin:20260329T090000
DURATION:PT30M
LOCATION:St. Ägidius
END:VEVENT
END:VCALENDAR
