BEGIN:VCALENDAR
VERSION:2.0
PRODID:-//Sabre//Sabre VObject 4.5.8//EN
CALSCALE:GREGORIAN
BEGIN:VEVENT
UID:sabre-vobject-c63f1ae7-a24b-43d9-977f-ec3681efbd77
DTSTAMP:20260423T033213Z
SUMMARY:Mariengrotte im Luitpoldpark: Deutschland betet Rosenkranz
DESCRIPTION:https://pfarreien-bistum-augsburg.df-preview.de/mariengrotte-im
 -luitpoldpark-deutschland-betet-rosenkranz_id1697195
DTSTART;TZID=Europe/Berlin:20260408T180000
DURATION:PT30M
LOCATION:St. Michael
END:VEVENT
END:VCALENDAR
