BEGIN:VCALENDAR
VERSION:2.0
PRODID:-//Sabre//Sabre VObject 4.5.8//EN
CALSCALE:GREGORIAN
BEGIN:VEVENT
UID:sabre-vobject-30e60bab-087f-4ce6-adc6-4506e287ad9c
DTSTAMP:20260422T224344Z
SUMMARY:Schulgottesdienst
DESCRIPTION:https://pfarreien-bistum-augsburg.df-preview.de/schulgottesdien
 st_id1697179
DTSTART;TZID=Europe/Berlin:20260325T104500
DURATION:PT30M
LOCATION:St. Vitus
END:VEVENT
END:VCALENDAR
