BEGIN:VCALENDAR
VERSION:2.0
PRODID:-//Sabre//Sabre VObject 4.5.8//EN
CALSCALE:GREGORIAN
BEGIN:VEVENT
UID:sabre-vobject-0bee24da-cec6-4f5c-af68-310b2f3f1843
DTSTAMP:20260422T031748Z
SUMMARY:Rosenkranz
DESCRIPTION:https://pfarreien-bistum-augsburg.df-preview.de/rosenkranz_id16
 97041
DTSTART;TZID=Europe/Berlin:20260321T160000
DURATION:PT30M
LOCATION:St. Stephan
END:VEVENT
END:VCALENDAR
