BEGIN:VCALENDAR
VERSION:2.0
PRODID:-//Sabre//Sabre VObject 4.5.8//EN
CALSCALE:GREGORIAN
BEGIN:VEVENT
UID:sabre-vobject-fecc493f-0e65-45b0-b15b-eceb8632f9a4
DTSTAMP:20260421T125524Z
SUMMARY:Hl. Messe
DESCRIPTION:https://pfarreien-bistum-augsburg.df-preview.de/hl-messe_id1697
 035
DTSTART;TZID=Europe/Berlin:20260409T190000
DURATION:PT30M
LOCATION:St. Martin\, Jahnstraße 1\, 86836 Lagerlechfeld
END:VEVENT
END:VCALENDAR
