BEGIN:VCALENDAR
VERSION:2.0
PRODID:-//Sabre//Sabre VObject 4.5.8//EN
CALSCALE:GREGORIAN
BEGIN:VEVENT
UID:sabre-vobject-0d18e79b-65c2-4d17-9e5c-2c8b43e993e2
DTSTAMP:20260421T195431Z
SUMMARY:Feier der Osternacht mit Chor und Band St. Martin mit dem WB Floria
 n Wörner
DESCRIPTION:https://pfarreien-bistum-augsburg.df-preview.de/feier-der-oster
 nacht-mit-chor-und-band-st-martin-mit-dem-wb-florian-woerner_id1697033
DTSTART;TZID=Europe/Berlin:20260404T210000
DURATION:PT30M
LOCATION:St. Martin\, Jahnstraße 1\, 86836 Lagerlechfeld
END:VEVENT
END:VCALENDAR
