BEGIN:VCALENDAR
VERSION:2.0
PRODID:-//Sabre//Sabre VObject 4.5.8//EN
CALSCALE:GREGORIAN
BEGIN:VEVENT
UID:sabre-vobject-021a2989-0084-43b4-8323-a16492e738ee
DTSTAMP:20260423T034915Z
SUMMARY:Bußgottesdienst mit anschl. Beichtgelegenheit
DESCRIPTION:https://pfarreien-bistum-augsburg.df-preview.de/bussgottesdiens
 t-mit-anschl-beichtgelegenheit_id1697009
DTSTART;TZID=Europe/Berlin:20260324T180000
DURATION:PT30M
LOCATION:St. Martin
END:VEVENT
END:VCALENDAR
