BEGIN:VCALENDAR
VERSION:2.0
PRODID:-//Sabre//Sabre VObject 4.5.8//EN
CALSCALE:GREGORIAN
BEGIN:VEVENT
UID:sabre-vobject-4be240d5-e5ed-4ac7-bb6e-4a898d03f114
DTSTAMP:20260422T191223Z
SUMMARY:Ölbergandacht
DESCRIPTION:https://pfarreien-bistum-augsburg.df-preview.de/oelbergandacht_
 id1696965
DTSTART;TZID=Europe/Berlin:20260402T081500
DURATION:PT30M
LOCATION:Kath. Von Langenmantel'sche Kobelkapellenstiftung Stiftung des öf
 fentlichen Rechts\, \, 86356 Neusäß Westheim
END:VEVENT
END:VCALENDAR
