BEGIN:VCALENDAR
VERSION:2.0
PRODID:-//Sabre//Sabre VObject 4.5.8//EN
CALSCALE:GREGORIAN
BEGIN:VEVENT
UID:sabre-vobject-145a8a35-f7b3-4e9e-bf1a-1918c53065b4
DTSTAMP:20260423T015547Z
SUMMARY:Rosenkranz
DESCRIPTION:https://pfarreien-bistum-augsburg.df-preview.de/rosenkranz_id16
 96961
DTSTART;TZID=Europe/Berlin:20260330T083000
DURATION:PT30M
LOCATION:Kath. Von Langenmantel'sche Kobelkapellenstiftung Stiftung des öf
 fentlichen Rechts\, \, 86356 Neusäß Westheim
END:VEVENT
END:VCALENDAR
