BEGIN:VCALENDAR
VERSION:2.0
PRODID:-//Sabre//Sabre VObject 4.5.8//EN
CALSCALE:GREGORIAN
BEGIN:VEVENT
UID:sabre-vobject-8fc91144-42ab-4171-9849-0aa121fd92f1
DTSTAMP:20260426T005202Z
SUMMARY:Kreuzweg
DESCRIPTION:https://pfarreien-bistum-augsburg.df-preview.de/kreuzweg_id1696
 949
DTSTART;TZID=Europe/Berlin:20260325T180000
DURATION:PT30M
LOCATION:St. Nikolaus
END:VEVENT
END:VCALENDAR
