BEGIN:VCALENDAR
VERSION:2.0
PRODID:-//Sabre//Sabre VObject 4.5.8//EN
CALSCALE:GREGORIAN
BEGIN:VEVENT
UID:sabre-vobject-3648e484-3ec3-406c-96fe-c2039585cf05
DTSTAMP:20260421T223857Z
SUMMARY:Komplet in der Ägidiuskapelle
DESCRIPTION:https://pfarreien-bistum-augsburg.df-preview.de/komplet-in-der-
 aegidiuskapelle_id1696921
DTSTART;TZID=Europe/Berlin:20260402T213000
DURATION:PT30M
LOCATION:St. Ägidius
END:VEVENT
END:VCALENDAR
