BEGIN:VCALENDAR
VERSION:2.0
PRODID:-//Sabre//Sabre VObject 4.5.8//EN
CALSCALE:GREGORIAN
BEGIN:VEVENT
UID:sabre-vobject-1b5b2685-3c38-492e-bcfe-05aea39a38ff
DTSTAMP:20260422T153419Z
SUMMARY:Lektorentreffen / Mitarbeitertreffen
DESCRIPTION:https://pfarreien-bistum-augsburg.df-preview.de/lektorentreffen
 -mitarbeitertreffen_id1696887
DTSTART;TZID=Europe/Berlin:20260326T184500
DURATION:PT30M
LOCATION:St. Vitus
END:VEVENT
END:VCALENDAR
