BEGIN:VCALENDAR
VERSION:2.0
PRODID:-//Sabre//Sabre VObject 4.5.8//EN
CALSCALE:GREGORIAN
BEGIN:VEVENT
UID:sabre-vobject-5425d402-b74a-4646-a4da-9b18f54ea4c4
DTSTAMP:20260422T001459Z
SUMMARY:Ölbergstunde in der Ägidiuskapelle
DESCRIPTION:https://pfarreien-bistum-augsburg.df-preview.de/oelbergstunde-i
 n-der-aegidiuskapelle_id1696849
DTSTART;TZID=Europe/Berlin:20260402T203000
DURATION:PT30M
LOCATION:St. Ägidius
END:VEVENT
END:VCALENDAR
