BEGIN:VCALENDAR
VERSION:2.0
PRODID:-//Sabre//Sabre VObject 4.5.8//EN
CALSCALE:GREGORIAN
BEGIN:VEVENT
UID:sabre-vobject-86398133-3c9a-4289-a478-faf2288c481e
DTSTAMP:20260423T132941Z
SUMMARY:Heilige Messe - 08:15 Uhr Rosenkranz
DESCRIPTION:https://pfarreien-bistum-augsburg.df-preview.de/heilige-messe-0
 8-15-uhr-rosenkranz_id1696660
DTSTART;TZID=Europe/Berlin:20260318T090000
DURATION:PT30M
LOCATION:St. Ägidius
END:VEVENT
END:VCALENDAR
