BEGIN:VCALENDAR
VERSION:2.0
PRODID:-//Sabre//Sabre VObject 4.5.8//EN
CALSCALE:GREGORIAN
BEGIN:VEVENT
UID:sabre-vobject-f531547d-c7a0-45b2-b8a8-88793b130c3e
DTSTAMP:20260422T033447Z
SUMMARY:Kreuzwegandacht
DESCRIPTION:https://pfarreien-bistum-augsburg.df-preview.de/kreuzwegandacht
 _id1696582
DTSTART;TZID=Europe/Berlin:20260327T170000
DURATION:PT30M
LOCATION:Mariä Himmelfahrt
END:VEVENT
END:VCALENDAR
