BEGIN:VCALENDAR
VERSION:2.0
PRODID:-//Sabre//Sabre VObject 4.5.8//EN
CALSCALE:GREGORIAN
BEGIN:VEVENT
UID:sabre-vobject-a866a293-b470-4be1-85ad-0209f9501dde
DTSTAMP:20260422T095133Z
SUMMARY:Ölbergandacht
DESCRIPTION:https://pfarreien-bistum-augsburg.df-preview.de/oelbergandacht_
 id1696553
DTSTART;TZID=Europe/Berlin:20260326T180000
DURATION:PT30M
LOCATION:St. Mauritius
END:VEVENT
END:VCALENDAR
