BEGIN:VCALENDAR
VERSION:2.0
PRODID:-//Sabre//Sabre VObject 4.5.8//EN
CALSCALE:GREGORIAN
BEGIN:VEVENT
UID:sabre-vobject-cc923cb9-f670-4afa-9a35-d1a68a09e53d
DTSTAMP:20260424T214328Z
SUMMARY:Altenh.: Heilige Messe
DESCRIPTION:https://pfarreien-bistum-augsburg.df-preview.de/altenh-heilige-
 messe_id1696524
DTSTART;TZID=Europe/Berlin:20260409T190000
DURATION:PT30M
LOCATION:St. Anna
END:VEVENT
END:VCALENDAR
