BEGIN:VCALENDAR
VERSION:2.0
PRODID:-//Sabre//Sabre VObject 4.5.8//EN
CALSCALE:GREGORIAN
BEGIN:VEVENT
UID:sabre-vobject-9e15dac8-dabb-4236-a6b3-a25245f1f4be
DTSTAMP:20260424T092546Z
SUMMARY:Osternachtfeier mit Speisensegnung
DESCRIPTION:https://pfarreien-bistum-augsburg.df-preview.de/osternachtfeier
 -mit-speisensegnung_id1696505
DTSTART;TZID=Europe/Berlin:20260405T050000
DURATION:PT30M
LOCATION:St. Theodor
END:VEVENT
END:VCALENDAR
