BEGIN:VCALENDAR
VERSION:2.0
PRODID:-//Sabre//Sabre VObject 4.5.8//EN
CALSCALE:GREGORIAN
BEGIN:VEVENT
UID:sabre-vobject-ec299a0c-a893-4826-9999-57d48ab2b717
DTSTAMP:20260422T000534Z
SUMMARY:Osternachtsfeier mit Feuer- u. Speisensegnung
DESCRIPTION:https://pfarreien-bistum-augsburg.df-preview.de/osternachtsfeie
 r-mit-feuer-u-speisensegnung_id1696444
DTSTART;TZID=Europe/Berlin:20260404T210000
DURATION:PT30M
LOCATION:St. Peter und Paul
END:VEVENT
END:VCALENDAR
