BEGIN:VCALENDAR
VERSION:2.0
PRODID:-//Sabre//Sabre VObject 4.5.8//EN
CALSCALE:GREGORIAN
BEGIN:VEVENT
UID:sabre-vobject-7563be50-3f14-45a4-af3e-c3a6408c4264
DTSTAMP:20260421T003451Z
SUMMARY:Kinderkreuzweg im Pfarrsaal
DESCRIPTION:https://pfarreien-bistum-augsburg.df-preview.de/kinderkreuzweg-
 im-pfarrsaal_id1696436
DTSTART;TZID=Europe/Berlin:20260403T103000
DURATION:PT30M
LOCATION:St. Raphael\, Kolpingstr. 8a\, 86356 Neusäß
END:VEVENT
END:VCALENDAR
