BEGIN:VCALENDAR
VERSION:2.0
PRODID:-//Sabre//Sabre VObject 4.5.8//EN
CALSCALE:GREGORIAN
BEGIN:VEVENT
UID:sabre-vobject-07b565ec-85a4-4abf-9f19-f791390ca3cc
DTSTAMP:20260422T095831Z
SUMMARY:Karfreitagsliturgie
DESCRIPTION:https://pfarreien-bistum-augsburg.df-preview.de/karfreitagslitu
 rgie_id1696352
DTSTART;TZID=Europe/Berlin:20260403T163000
DURATION:PT30M
LOCATION:St. Konrad
END:VEVENT
END:VCALENDAR
