BEGIN:VCALENDAR
VERSION:2.0
PRODID:-//Sabre//Sabre VObject 4.5.8//EN
CALSCALE:GREGORIAN
BEGIN:VEVENT
UID:sabre-vobject-57d2b3af-8180-47f7-a413-2975800becd9
DTSTAMP:20260424T110608Z
SUMMARY:Festgottesdienst
DESCRIPTION:https://pfarreien-bistum-augsburg.df-preview.de/festgottesdiens
 t_id1696337
DTSTART;TZID=Europe/Berlin:20260405T103000
DURATION:PT30M
LOCATION:St. Ulrich und Afra
END:VEVENT
END:VCALENDAR
