BEGIN:VCALENDAR
VERSION:2.0
PRODID:-//Sabre//Sabre VObject 4.5.8//EN
CALSCALE:GREGORIAN
BEGIN:VEVENT
UID:sabre-vobject-c91a7425-6ef1-49ea-8872-7448e065441a
DTSTAMP:20260425T023343Z
SUMMARY:Pfarrgottesdienst für alle Lebenden und Verstorbenen der Pfarreien
 gemeinschaft im Gebetsgedenken an (Ministranten bieten Osterkerzen an):
DESCRIPTION:https://pfarreien-bistum-augsburg.df-preview.de/pfarrgottesdien
 st-fuer-alle-lebenden-und-verstorbenen-der-pfarreiengemeinschaft-im-gebets
 gedenken-an-ministranten-bieten-osterkerzen-an_id1696328
DTSTART;TZID=Europe/Berlin:20260322T100000
DURATION:PT30M
LOCATION:St. Leonhard\, Ludwig-Rif-Straße 32\, 86465 Reutern
END:VEVENT
END:VCALENDAR
