BEGIN:VCALENDAR
VERSION:2.0
PRODID:-//Sabre//Sabre VObject 4.5.8//EN
CALSCALE:GREGORIAN
BEGIN:VEVENT
UID:sabre-vobject-eb9097be-c6a0-4c8c-b8fa-d9adac871a8a
DTSTAMP:20260422T032704Z
SUMMARY:Alpenländische Kreuzwegandacht mit bayerischen Mundartgebeten und 
 Musik f. Zither u. Harfe
DESCRIPTION:https://pfarreien-bistum-augsburg.df-preview.de/alpenlaendische
 -kreuzwegandacht-mit-bayerischen-mundartgebeten-und-musik-f-zither-u-harfe
 _id1696307
DTSTART;TZID=Europe/Berlin:20260327T180000
DURATION:PT30M
LOCATION:St. Michael
END:VEVENT
END:VCALENDAR
