BEGIN:VCALENDAR
VERSION:2.0
PRODID:-//Sabre//Sabre VObject 4.5.8//EN
CALSCALE:GREGORIAN
BEGIN:VEVENT
UID:sabre-vobject-7a23a144-457a-42ce-809b-5be248774250
DTSTAMP:20260422T064031Z
SUMMARY:Taizé-Gebet
DESCRIPTION:https://pfarreien-bistum-augsburg.df-preview.de/taize-gebet_id1
 696304
DTSTART;TZID=Europe/Berlin:20260325T183000
DURATION:PT30M
LOCATION:St. Michael
END:VEVENT
END:VCALENDAR
