BEGIN:VCALENDAR
VERSION:2.0
PRODID:-//Sabre//Sabre VObject 4.5.8//EN
CALSCALE:GREGORIAN
BEGIN:VEVENT
UID:sabre-vobject-3458d533-8fc5-4d3d-89c7-02edf2aacaec
DTSTAMP:20260422T094939Z
SUMMARY:Alpha-Kurs im Pfarrheim
DESCRIPTION:https://pfarreien-bistum-augsburg.df-preview.de/alpha-kurs-im-p
 farrheim_id1696302
DTSTART;TZID=Europe/Berlin:20260323T190000
DURATION:PT30M
LOCATION:St. Michael
END:VEVENT
END:VCALENDAR
