BEGIN:VCALENDAR
VERSION:2.0
PRODID:-//Sabre//Sabre VObject 4.5.8//EN
CALSCALE:GREGORIAN
BEGIN:VEVENT
UID:sabre-vobject-fe05750b-a380-402b-b3b4-a7a749c21c64
DTSTAMP:20260424T160727Z
SUMMARY:Liturgie vom Leiden und Sterben Christi\nAussetzung des Allerheilig
 sten\, anschl. Beststunden bis 16:30 Uhr
DESCRIPTION:https://pfarreien-bistum-augsburg.df-preview.de/liturgie-vom-le
 iden-und-sterben-christi-aussetzung-des-allerheiligsten-anschl-beststunden
 -bis-16-30-uhr_id1696252
DTSTART;TZID=Europe/Berlin:20260403T130000
DURATION:PT30M
LOCATION:St. Michael\, Augsburger Str.\, 86568 Hollenbach
END:VEVENT
END:VCALENDAR
