BEGIN:VCALENDAR
VERSION:2.0
PRODID:-//Sabre//Sabre VObject 4.5.8//EN
CALSCALE:GREGORIAN
BEGIN:VEVENT
UID:sabre-vobject-3b9eaf8f-c8f7-4ced-9aca-3bcfcfb893d9
DTSTAMP:20260422T192344Z
SUMMARY:Festandacht
DESCRIPTION:https://pfarreien-bistum-augsburg.df-preview.de/festandacht_id1
 696231
DTSTART;TZID=Europe/Berlin:20260328T133000
DURATION:PT30M
LOCATION:Maria Verkündigung\, Ainertshofen 1\, 86570 Ainertshofen
END:VEVENT
END:VCALENDAR
