BEGIN:VCALENDAR
VERSION:2.0
PRODID:-//Sabre//Sabre VObject 4.5.8//EN
CALSCALE:GREGORIAN
BEGIN:VEVENT
UID:sabre-vobject-64feeca4-a7e3-4011-9eb6-f69e6b3d0754
DTSTAMP:20260424T115528Z
SUMMARY:Hl. Amt
DESCRIPTION:https://pfarreien-bistum-augsburg.df-preview.de/hl-amt_id169619
 6
DTSTART;TZID=Europe/Berlin:20260406T083000
DURATION:PT30M
LOCATION:St. Michael\, Augsburger Str.\, 86568 Hollenbach
END:VEVENT
END:VCALENDAR
