BEGIN:VCALENDAR
VERSION:2.0
PRODID:-//Sabre//Sabre VObject 4.5.8//EN
CALSCALE:GREGORIAN
BEGIN:VEVENT
UID:sabre-vobject-f63c08d9-ed1b-4f53-bfba-96fd566f76f5
DTSTAMP:20260422T181612Z
SUMMARY:Rosenkranz um geistliche Berufe
DESCRIPTION:https://pfarreien-bistum-augsburg.df-preview.de/rosenkranz-um-g
 eistliche-berufe_id1696169
DTSTART;TZID=Europe/Berlin:20260410T183000
DURATION:PT30M
LOCATION:St. Nikolaus\, Kirchpl. 3\, 86570 Inchenhofen
END:VEVENT
END:VCALENDAR
