BEGIN:VCALENDAR
VERSION:2.0
PRODID:-//Sabre//Sabre VObject 4.5.8//EN
CALSCALE:GREGORIAN
BEGIN:VEVENT
UID:sabre-vobject-25d0b495-e26a-4d41-8f02-dd4e68461ef3
DTSTAMP:20260422T211127Z
SUMMARY:Osternachtfeier mit Feuerweihe\, österlichem Preisgesang\, Weihe d
 es Taufwassers - Osterhochamt - für die verstorbenen Seelsorger der Pfarr
 ei  (Bitte Kerzen mit Hüllen mitbringen!) mit Speisen
DESCRIPTION:https://pfarreien-bistum-augsburg.df-preview.de/osternachtfeier
 -mit-feuerweihe-oesterlichem-preisgesang-weihe-des-taufwassers-osterhocham
 t-fuer-die-verstorbenen-seelsorger-der-pfarrei-bitte-kerzen-mit-huellen-mi
 tbringen-mit-speisen_id1696168
DTSTART;TZID=Europe/Berlin:20260405T050000
DURATION:PT30M
LOCATION:St. Nikolaus\, Kirchpl. 3\, 86570 Inchenhofen
END:VEVENT
END:VCALENDAR
