BEGIN:VCALENDAR
VERSION:2.0
PRODID:-//Sabre//Sabre VObject 4.5.8//EN
CALSCALE:GREGORIAN
BEGIN:VEVENT
UID:sabre-vobject-86614df5-a7bf-43a2-93fa-24d981da6b94
DTSTAMP:20260424T224008Z
SUMMARY:Messfeier für
DESCRIPTION:https://pfarreien-bistum-augsburg.df-preview.de/messfeier-fuer_
 id1696118
DTSTART;TZID=Europe/Berlin:20260414T140000
DURATION:PT30M
LOCATION:St. Vitus
END:VEVENT
END:VCALENDAR
