BEGIN:VCALENDAR
VERSION:2.0
PRODID:-//Sabre//Sabre VObject 4.5.8//EN
CALSCALE:GREGORIAN
BEGIN:VEVENT
UID:sabre-vobject-9e0862c5-03f3-4fad-9071-218f0475e18e
DTSTAMP:20260426T035014Z
SUMMARY:Heilige Messe
DESCRIPTION:https://pfarreien-bistum-augsburg.df-preview.de/heilige-messe_i
 d1696100
DTSTART;TZID=Europe/Berlin:20260326T080000
DURATION:PT30M
LOCATION:St. Katharina
END:VEVENT
END:VCALENDAR
