BEGIN:VCALENDAR
VERSION:2.0
PRODID:-//Sabre//Sabre VObject 4.5.8//EN
CALSCALE:GREGORIAN
BEGIN:VEVENT
UID:sabre-vobject-48c12bf9-e4fb-47fa-bbb8-6195786a9892
DTSTAMP:20260423T070624Z
SUMMARY:Osterfeier für Kleinkinder - im Pfarrheim
DESCRIPTION:https://pfarreien-bistum-augsburg.df-preview.de/osterfeier-fuer
 -kleinkinder-im-pfarrheim_id1696097
DTSTART;TZID=Europe/Berlin:20260404T160000
DURATION:PT30M
LOCATION:St. Peter und Paul
END:VEVENT
END:VCALENDAR
