BEGIN:VCALENDAR
VERSION:2.0
PRODID:-//Sabre//Sabre VObject 4.5.8//EN
CALSCALE:GREGORIAN
BEGIN:VEVENT
UID:sabre-vobject-199af772-5bb1-45f6-8120-973dd21cf773
DTSTAMP:20260423T212402Z
SUMMARY:Trauermette
DESCRIPTION:https://pfarreien-bistum-augsburg.df-preview.de/trauermette_id1
 696093
DTSTART;TZID=Europe/Berlin:20260404T080000
DURATION:PT30M
LOCATION:St. Peter und Paul
END:VEVENT
END:VCALENDAR
