BEGIN:VCALENDAR
VERSION:2.0
PRODID:-//Sabre//Sabre VObject 4.5.8//EN
CALSCALE:GREGORIAN
BEGIN:VEVENT
UID:sabre-vobject-e7bfeb38-aa74-4698-8b6f-e62399351e01
DTSTAMP:20260423T114043Z
SUMMARY:Hl. Amt vom Letzten Abendmahl
DESCRIPTION:https://pfarreien-bistum-augsburg.df-preview.de/hl-amt-vom-letz
 ten-abendmahl_id1696046
DTSTART;TZID=Europe/Berlin:20260402T200000
DURATION:PT30M
LOCATION:St. Nikolaus\, Kirchpl. 3\, 86570 Inchenhofen
END:VEVENT
END:VCALENDAR
