BEGIN:VCALENDAR
VERSION:2.0
PRODID:-//Sabre//Sabre VObject 4.5.8//EN
CALSCALE:GREGORIAN
BEGIN:VEVENT
UID:sabre-vobject-c131173a-6c96-4ff1-b27f-bcfaedba716c
DTSTAMP:20260423T130327Z
SUMMARY:Chrisammesse in Augsburg
DESCRIPTION:https://pfarreien-bistum-augsburg.df-preview.de/chrisammesse-in
 -augsburg_id1696045
DTSTART;TZID=Europe/Berlin:20260401T100000
DURATION:PT30M
LOCATION:St. Nikolaus\, Kirchpl. 3\, 86570 Inchenhofen
END:VEVENT
END:VCALENDAR
