BEGIN:VCALENDAR
VERSION:2.0
PRODID:-//Sabre//Sabre VObject 4.5.8//EN
CALSCALE:GREGORIAN
BEGIN:VEVENT
UID:sabre-vobject-8edbaa84-6d2b-4e32-b93f-386b4e134157
DTSTAMP:20260423T153859Z
SUMMARY:Hl. Messe
DESCRIPTION:https://pfarreien-bistum-augsburg.df-preview.de/hl-messe_id1696
 016
DTSTART;TZID=Europe/Berlin:20260327T190000
DURATION:PT30M
LOCATION:St. Nikolaus\, Kirchpl. 3\, 86570 Inchenhofen
END:VEVENT
END:VCALENDAR
