BEGIN:VCALENDAR
VERSION:2.0
PRODID:-//Sabre//Sabre VObject 4.5.8//EN
CALSCALE:GREGORIAN
BEGIN:VEVENT
UID:sabre-vobject-08bca511-1e24-44da-88ea-e258a8065543
DTSTAMP:20260423T044650Z
SUMMARY:in Inchenhofen: Kinderkreuzweg für die PG gestaltet von den Erstko
 mmunionkindern der PG / Bitte Opferkästchen mitbringen!
DESCRIPTION:https://pfarreien-bistum-augsburg.df-preview.de/in-inchenhofen-
 kinderkreuzweg-fuer-die-pg-gestaltet-von-den-erstkommunionkindern-der-pg-b
 itte-opferkaestchen-mitbringen_id1696014
DTSTART;TZID=Europe/Berlin:20260403T100000
DURATION:PT30M
LOCATION:St. Nikolaus\, Kirchpl. 3\, 86570 Inchenhofen
END:VEVENT
END:VCALENDAR
