BEGIN:VCALENDAR
VERSION:2.0
PRODID:-//Sabre//Sabre VObject 4.5.8//EN
CALSCALE:GREGORIAN
BEGIN:VEVENT
UID:sabre-vobject-106f6a2d-f488-4437-8e3c-3fe0259ce310
DTSTAMP:20260424T011106Z
SUMMARY:Hl. Messe
DESCRIPTION:https://pfarreien-bistum-augsburg.df-preview.de/hl-messe_id1696
 000
DTSTART;TZID=Europe/Berlin:20260325T190000
DURATION:PT30M
LOCATION:St. Nikolaus\, Kirchpl. 3\, 86570 Inchenhofen
END:VEVENT
END:VCALENDAR
