BEGIN:VCALENDAR
VERSION:2.0
PRODID:-//Sabre//Sabre VObject 4.5.8//EN
CALSCALE:GREGORIAN
BEGIN:VEVENT
UID:sabre-vobject-875b035f-bbac-4353-87ce-61134680a144
DTSTAMP:20260424T111049Z
SUMMARY:Messfeier mit Segnung der Palmzweige\, gest. von Musikkapelle Konra
 dshofen
DESCRIPTION:https://pfarreien-bistum-augsburg.df-preview.de/messfeier-mit-s
 egnung-der-palmzweige-gest-von-musikkapelle-konradshofen_id1695961
DTSTART;TZID=Europe/Berlin:20260329T100000
DURATION:PT30M
LOCATION:St. Martin\, Grimoldsriederstr. 6\, 86872 Scherstetten - Konradsho
 fen
END:VEVENT
END:VCALENDAR
